BEGIN:VCALENDAR
VERSION:2.0
PRODID:-//Santa María del Mar - ECPv6.15.16//NONSGML v1.0//EN
CALSCALE:GREGORIAN
METHOD:PUBLISH
X-ORIGINAL-URL:https://santamariadelmar.es/gl
X-WR-CALDESC:Events for Santa María del Mar
REFRESH-INTERVAL;VALUE=DURATION:PT1H
X-Robots-Tag:noindex
X-PUBLISHED-TTL:PT1H
BEGIN:VTIMEZONE
TZID:Europe/Madrid
BEGIN:DAYLIGHT
TZOFFSETFROM:+0100
TZOFFSETTO:+0200
TZNAME:CEST
DTSTART:20250330T010000
END:DAYLIGHT
BEGIN:STANDARD
TZOFFSETFROM:+0200
TZOFFSETTO:+0100
TZNAME:CET
DTSTART:20251026T010000
END:STANDARD
BEGIN:DAYLIGHT
TZOFFSETFROM:+0100
TZOFFSETTO:+0200
TZNAME:CEST
DTSTART:20260329T010000
END:DAYLIGHT
BEGIN:STANDARD
TZOFFSETFROM:+0200
TZOFFSETTO:+0100
TZNAME:CET
DTSTART:20261025T010000
END:STANDARD
BEGIN:DAYLIGHT
TZOFFSETFROM:+0100
TZOFFSETTO:+0200
TZNAME:CEST
DTSTART:20270328T010000
END:DAYLIGHT
BEGIN:STANDARD
TZOFFSETFROM:+0200
TZOFFSETTO:+0100
TZNAME:CET
DTSTART:20271031T010000
END:STANDARD
END:VTIMEZONE
BEGIN:VEVENT
DTSTART;TZID=Europe/Madrid:20260303T102500
DTEND;TZID=Europe/Madrid:20260303T105500
DTSTAMP:20260425T001207
CREATED:20260219T082022Z
LAST-MODIFIED:20260219T082059Z
UID:9073-1772533500-1772535300@santamariadelmar.es
SUMMARY:Misa ESO-Bach
DESCRIPTION:
URL:https://santamariadelmar.es/gl/evento/misa-eso-bach/
CATEGORIES:Pastoral
END:VEVENT
BEGIN:VEVENT
DTSTART;TZID=Europe/Madrid:20260306T000000
DTEND;TZID=Europe/Madrid:20260306T235959
DTSTAMP:20260425T001207
CREATED:20260219T082615Z
LAST-MODIFIED:20260219T085236Z
UID:9082-1772755200-1772841599@santamariadelmar.es
SUMMARY:Baúl Magis Infantil
DESCRIPTION:
URL:https://santamariadelmar.es/gl/evento/baul-magis/
CATEGORIES:Pastoral
END:VEVENT
BEGIN:VEVENT
DTSTART;TZID=Europe/Madrid:20260306T110500
DTEND;TZID=Europe/Madrid:20260306T113500
DTSTAMP:20260425T001207
CREATED:20260219T082919Z
LAST-MODIFIED:20260219T082919Z
UID:9084-1772795100-1772796900@santamariadelmar.es
SUMMARY:Misa Voluntaria Primaria
DESCRIPTION:
URL:https://santamariadelmar.es/gl/evento/misa-voluntaria-primaria-2/
CATEGORIES:Pastoral
END:VEVENT
BEGIN:VEVENT
DTSTART;TZID=Europe/Madrid:20260309T000000
DTEND;TZID=Europe/Madrid:20260313T235959
DTSTAMP:20260425T001207
CREATED:20260219T084146Z
LAST-MODIFIED:20260219T084146Z
UID:9092-1773014400-1773446399@santamariadelmar.es
SUMMARY:¡Semana Ignaciana!
DESCRIPTION:
URL:https://santamariadelmar.es/gl/evento/semana-ignaciana/
CATEGORIES:Pastoral
END:VEVENT
BEGIN:VEVENT
DTSTART;TZID=Europe/Madrid:20260313T000000
DTEND;TZID=Europe/Madrid:20260313T235959
DTSTAMP:20260425T001207
CREATED:20260219T084616Z
LAST-MODIFIED:20260219T085224Z
UID:9104-1773360000-1773446399@santamariadelmar.es
SUMMARY:Baúl Magis Infantil
DESCRIPTION:
URL:https://santamariadelmar.es/gl/evento/baul-magis-2/
CATEGORIES:Pastoral
END:VEVENT
BEGIN:VEVENT
DTSTART;TZID=Europe/Madrid:20260313T110500
DTEND;TZID=Europe/Madrid:20260313T113500
DTSTAMP:20260425T001207
CREATED:20260219T084943Z
LAST-MODIFIED:20260219T084943Z
UID:9113-1773399900-1773401700@santamariadelmar.es
SUMMARY:Misa voluntaria 5º6º primaria
DESCRIPTION:
URL:https://santamariadelmar.es/gl/evento/misa-voluntaria-5o6o-primaria/
CATEGORIES:Pastoral
END:VEVENT
BEGIN:VEVENT
DTSTART;TZID=Europe/Madrid:20260317T102500
DTEND;TZID=Europe/Madrid:20260317T105500
DTSTAMP:20260425T001207
CREATED:20260219T085146Z
LAST-MODIFIED:20260219T085146Z
UID:9119-1773743100-1773744900@santamariadelmar.es
SUMMARY:Misa voluntaria ESO-Bach
DESCRIPTION:
URL:https://santamariadelmar.es/gl/evento/misa-voluntaria-eso-bach/
CATEGORIES:Pastoral
END:VEVENT
BEGIN:VEVENT
DTSTART;TZID=Europe/Madrid:20260320T000000
DTEND;TZID=Europe/Madrid:20260320T235959
DTSTAMP:20260425T001207
CREATED:20260219T085210Z
LAST-MODIFIED:20260219T085210Z
UID:9121-1773964800-1774051199@santamariadelmar.es
SUMMARY:Baúl Magis Infantil
DESCRIPTION:
URL:https://santamariadelmar.es/gl/evento/baul-magis-infantil-3/
CATEGORIES:Pastoral
END:VEVENT
BEGIN:VEVENT
DTSTART;TZID=Europe/Madrid:20260323T000000
DTEND;TZID=Europe/Madrid:20260327T235959
DTSTAMP:20260425T001207
CREATED:20260219T085356Z
LAST-MODIFIED:20260219T085356Z
UID:9127-1774224000-1774655999@santamariadelmar.es
SUMMARY:Semana de Mozambique
DESCRIPTION:
URL:https://santamariadelmar.es/gl/evento/semana-de-mozambique/
CATEGORIES:Pastoral
END:VEVENT
BEGIN:VEVENT
DTSTART;TZID=Europe/Madrid:20260324T102500
DTEND;TZID=Europe/Madrid:20260324T105500
DTSTAMP:20260425T001207
CREATED:20260219T085540Z
LAST-MODIFIED:20260219T085540Z
UID:9131-1774347900-1774349700@santamariadelmar.es
SUMMARY:Misa voluntaria ESO-Bach
DESCRIPTION:
URL:https://santamariadelmar.es/gl/evento/misa-voluntaria-eso-bach-2/
CATEGORIES:Pastoral
END:VEVENT
BEGIN:VEVENT
DTSTART;TZID=Europe/Madrid:20260327T000000
DTEND;TZID=Europe/Madrid:20260327T235959
DTSTAMP:20260425T001207
CREATED:20260219T085735Z
LAST-MODIFIED:20260219T085735Z
UID:9137-1774569600-1774655999@santamariadelmar.es
SUMMARY:Baúl Magis Infantil
DESCRIPTION:
URL:https://santamariadelmar.es/gl/evento/baul-magis-infantil-4/
CATEGORIES:Pastoral
END:VEVENT
BEGIN:VEVENT
DTSTART;TZID=Europe/Madrid:20260327T110500
DTEND;TZID=Europe/Madrid:20260327T113500
DTSTAMP:20260425T001207
CREATED:20260219T085803Z
LAST-MODIFIED:20260219T085803Z
UID:9139-1774609500-1774611300@santamariadelmar.es
SUMMARY:Misa voluntaria primaria
DESCRIPTION:
URL:https://santamariadelmar.es/gl/evento/misa-voluntaria-primaria-4/
CATEGORIES:Pastoral
END:VEVENT
END:VCALENDAR