BEGIN:VCALENDAR
VERSION:2.0
PRODID:-//Santa María del Mar - ECPv6.15.16//NONSGML v1.0//EN
CALSCALE:GREGORIAN
METHOD:PUBLISH
X-ORIGINAL-URL:https://santamariadelmar.es/gl
X-WR-CALDESC:Events for Santa María del Mar
REFRESH-INTERVAL;VALUE=DURATION:PT1H
X-Robots-Tag:noindex
X-PUBLISHED-TTL:PT1H
BEGIN:VTIMEZONE
TZID:Europe/Madrid
BEGIN:DAYLIGHT
TZOFFSETFROM:+0100
TZOFFSETTO:+0200
TZNAME:CEST
DTSTART:20250330T010000
END:DAYLIGHT
BEGIN:STANDARD
TZOFFSETFROM:+0200
TZOFFSETTO:+0100
TZNAME:CET
DTSTART:20251026T010000
END:STANDARD
BEGIN:DAYLIGHT
TZOFFSETFROM:+0100
TZOFFSETTO:+0200
TZNAME:CEST
DTSTART:20260329T010000
END:DAYLIGHT
BEGIN:STANDARD
TZOFFSETFROM:+0200
TZOFFSETTO:+0100
TZNAME:CET
DTSTART:20261025T010000
END:STANDARD
BEGIN:DAYLIGHT
TZOFFSETFROM:+0100
TZOFFSETTO:+0200
TZNAME:CEST
DTSTART:20270328T010000
END:DAYLIGHT
BEGIN:STANDARD
TZOFFSETFROM:+0200
TZOFFSETTO:+0100
TZNAME:CET
DTSTART:20271031T010000
END:STANDARD
END:VTIMEZONE
BEGIN:VEVENT
DTSTART;TZID=Europe/Madrid:20260424T105000
DTEND;TZID=Europe/Madrid:20260424T134500
DTSTAMP:20260424T152137
CREATED:20260407T071403Z
LAST-MODIFIED:20260407T071403Z
UID:9426-1777027800-1777038300@santamariadelmar.es
SUMMARY:RCP - 4ºESO
DESCRIPTION:
URL:https://santamariadelmar.es/gl/evento/rcp-4oeso-2/
CATEGORIES:ESO
END:VEVENT
BEGIN:VEVENT
DTSTART;TZID=Europe/Madrid:20260424T105000
DTEND;TZID=Europe/Madrid:20260424T134500
DTSTAMP:20260424T152137
CREATED:20260407T071536Z
LAST-MODIFIED:20260407T071536Z
UID:9428-1777027800-1777038300@santamariadelmar.es
SUMMARY:Charla Deusto: Redes Sociales y Apuestas - 3º ESO
DESCRIPTION:
URL:https://santamariadelmar.es/gl/evento/charla-deusto-redes-sociales-y-apuestas-3o-eso/
CATEGORIES:ESO
END:VEVENT
BEGIN:VEVENT
DTSTART;TZID=Europe/Madrid:20260427T000000
DTEND;TZID=Europe/Madrid:20260427T235959
DTSTAMP:20260424T152137
CREATED:20260407T071151Z
LAST-MODIFIED:20260407T071151Z
UID:9422-1777248000-1777334399@santamariadelmar.es
SUMMARY:Convivencias 2º ESO A/C
DESCRIPTION:
URL:https://santamariadelmar.es/gl/evento/convivencias-2o-eso-a-c/
CATEGORIES:ESO
END:VEVENT
BEGIN:VEVENT
DTSTART;TZID=Europe/Madrid:20260428T000000
DTEND;TZID=Europe/Madrid:20260428T235959
DTSTAMP:20260424T152137
CREATED:20260407T082009Z
LAST-MODIFIED:20260407T082009Z
UID:9487-1777334400-1777420799@santamariadelmar.es
SUMMARY:Charla ETS - 4ºESO
DESCRIPTION:
URL:https://santamariadelmar.es/gl/evento/charla-ets-4oeso/
CATEGORIES:ESO
END:VEVENT
BEGIN:VEVENT
DTSTART;TZID=Europe/Madrid:20260428T000000
DTEND;TZID=Europe/Madrid:20260430T235959
DTSTAMP:20260424T152137
CREATED:20260407T071803Z
LAST-MODIFIED:20260407T071846Z
UID:9432-1777334400-1777593599@santamariadelmar.es
SUMMARY:Camino de Santiago - 3º ESO
DESCRIPTION:
URL:https://santamariadelmar.es/gl/evento/camino-de-santiago/
CATEGORIES:ESO
END:VEVENT
END:VCALENDAR