BEGIN:VCALENDAR
VERSION:2.0
PRODID:-//Santa María del Mar - ECPv6.15.16//NONSGML v1.0//EN
CALSCALE:GREGORIAN
METHOD:PUBLISH
X-WR-CALNAME:Santa María del Mar
X-ORIGINAL-URL:https://santamariadelmar.es
X-WR-CALDESC:Eventos para Santa María del Mar
REFRESH-INTERVAL;VALUE=DURATION:PT1H
X-Robots-Tag:noindex
X-PUBLISHED-TTL:PT1H
BEGIN:VTIMEZONE
TZID:Europe/Madrid
BEGIN:DAYLIGHT
TZOFFSETFROM:+0100
TZOFFSETTO:+0200
TZNAME:CEST
DTSTART:20240331T010000
END:DAYLIGHT
BEGIN:STANDARD
TZOFFSETFROM:+0200
TZOFFSETTO:+0100
TZNAME:CET
DTSTART:20241027T010000
END:STANDARD
BEGIN:DAYLIGHT
TZOFFSETFROM:+0100
TZOFFSETTO:+0200
TZNAME:CEST
DTSTART:20250330T010000
END:DAYLIGHT
BEGIN:STANDARD
TZOFFSETFROM:+0200
TZOFFSETTO:+0100
TZNAME:CET
DTSTART:20251026T010000
END:STANDARD
BEGIN:DAYLIGHT
TZOFFSETFROM:+0100
TZOFFSETTO:+0200
TZNAME:CEST
DTSTART:20260329T010000
END:DAYLIGHT
BEGIN:STANDARD
TZOFFSETFROM:+0200
TZOFFSETTO:+0100
TZNAME:CET
DTSTART:20261025T010000
END:STANDARD
BEGIN:DAYLIGHT
TZOFFSETFROM:+0100
TZOFFSETTO:+0200
TZNAME:CEST
DTSTART:20270328T010000
END:DAYLIGHT
BEGIN:STANDARD
TZOFFSETFROM:+0200
TZOFFSETTO:+0100
TZNAME:CET
DTSTART:20271031T010000
END:STANDARD
END:VTIMEZONE
BEGIN:VEVENT
DTSTART;TZID=Europe/Madrid:20251203T000000
DTEND;TZID=Europe/Madrid:20251203T235959
DTSTAMP:20260424T232943
CREATED:20251125T150300Z
LAST-MODIFIED:20251125T150300Z
UID:2734-1764720000-1764806399@santamariadelmar.es
SUMMARY:San Francisco Javier
DESCRIPTION:
URL:https://santamariadelmar.es/evento/san-francisco-javier/
CATEGORIES:Santoral
END:VEVENT
BEGIN:VEVENT
DTSTART;TZID=Europe/Madrid:20251206T000000
DTEND;TZID=Europe/Madrid:20251206T235959
DTSTAMP:20260424T232943
CREATED:20251125T150352Z
LAST-MODIFIED:20251125T150411Z
UID:2736-1764979200-1765065599@santamariadelmar.es
SUMMARY:Vigilia de la Inmaculada
DESCRIPTION:
URL:https://santamariadelmar.es/evento/vigilia-de-la-inmaculada/
CATEGORIES:Pastoral
END:VEVENT
BEGIN:VEVENT
DTSTART;TZID=Europe/Madrid:20251208T000000
DTEND;TZID=Europe/Madrid:20251208T235959
DTSTAMP:20260424T232943
CREATED:20251125T145654Z
LAST-MODIFIED:20251125T145716Z
UID:2726-1765152000-1765238399@santamariadelmar.es
SUMMARY:¡Día no lectivo!
DESCRIPTION:
URL:https://santamariadelmar.es/evento/dia-no-lectivo/
END:VEVENT
BEGIN:VEVENT
DTSTART;TZID=Europe/Madrid:20251210T000000
DTEND;TZID=Europe/Madrid:20251210T235959
DTSTAMP:20260424T232943
CREATED:20251125T150509Z
LAST-MODIFIED:20251125T150509Z
UID:2738-1765324800-1765411199@santamariadelmar.es
SUMMARY:Día de la declaración universal de los Derechos Humanos
DESCRIPTION:
URL:https://santamariadelmar.es/evento/dia-de-la-declaracion-universal-de-los-derechos-humanos/
CATEGORIES:Calendario Escolar
END:VEVENT
BEGIN:VEVENT
DTSTART;TZID=Europe/Madrid:20251212T000000
DTEND;TZID=Europe/Madrid:20251212T235959
DTSTAMP:20260424T232943
CREATED:20251125T150653Z
LAST-MODIFIED:20251125T150653Z
UID:2741-1765497600-1765583999@santamariadelmar.es
SUMMARY:Noche Ignaciana 1ºESO
DESCRIPTION:
URL:https://santamariadelmar.es/evento/noche-ignaciana-1oeso/
CATEGORIES:ESO
END:VEVENT
BEGIN:VEVENT
DTSTART;TZID=Europe/Madrid:20251220T000000
DTEND;TZID=Europe/Madrid:20260107T235959
DTSTAMP:20260424T232943
CREATED:20251125T151346Z
LAST-MODIFIED:20260108T100910Z
UID:2743-1766188800-1767830399@santamariadelmar.es
SUMMARY:Vacaciones Navidad
DESCRIPTION:
URL:https://santamariadelmar.es/evento/vacaciones-navidad/
CATEGORIES:Calendario Escolar
END:VEVENT
BEGIN:VEVENT
DTSTART;TZID=Europe/Madrid:20251224T000000
DTEND;TZID=Europe/Madrid:20251224T235959
DTSTAMP:20260424T232943
CREATED:20251125T151429Z
LAST-MODIFIED:20251125T151437Z
UID:2745-1766534400-1766620799@santamariadelmar.es
SUMMARY:Nochebuena
DESCRIPTION:
URL:https://santamariadelmar.es/evento/nochebuena/
CATEGORIES:Calendario Escolar
END:VEVENT
BEGIN:VEVENT
DTSTART;TZID=Europe/Madrid:20251225T000000
DTEND;TZID=Europe/Madrid:20251225T235959
DTSTAMP:20260424T232943
CREATED:20251125T151449Z
LAST-MODIFIED:20251125T151449Z
UID:2747-1766620800-1766707199@santamariadelmar.es
SUMMARY:Navidad
DESCRIPTION:
URL:https://santamariadelmar.es/evento/navidad/
CATEGORIES:Calendario Escolar
END:VEVENT
BEGIN:VEVENT
DTSTART;TZID=Europe/Madrid:20251228T000000
DTEND;TZID=Europe/Madrid:20251228T235959
DTSTAMP:20260424T232943
CREATED:20251125T151508Z
LAST-MODIFIED:20251125T151508Z
UID:2749-1766880000-1766966399@santamariadelmar.es
SUMMARY:Día de los Santos Inocentes
DESCRIPTION:
URL:https://santamariadelmar.es/evento/dia-de-los-santos-inocentes/
CATEGORIES:Santoral
END:VEVENT
BEGIN:VEVENT
DTSTART;TZID=Europe/Madrid:20251231T000000
DTEND;TZID=Europe/Madrid:20251231T235959
DTSTAMP:20260424T232943
CREATED:20251125T151540Z
LAST-MODIFIED:20251125T151540Z
UID:2751-1767139200-1767225599@santamariadelmar.es
SUMMARY:¡Fin de año!
DESCRIPTION:
URL:https://santamariadelmar.es/evento/fin-de-ano/
CATEGORIES:Calendario Escolar
END:VEVENT
END:VCALENDAR