BEGIN:VCALENDAR
VERSION:2.0
PRODID:-//Santa María del Mar - ECPv6.15.16//NONSGML v1.0//EN
CALSCALE:GREGORIAN
METHOD:PUBLISH
X-ORIGINAL-URL:https://santamariadelmar.es
X-WR-CALDESC:Eventos para Santa María del Mar
REFRESH-INTERVAL;VALUE=DURATION:PT1H
X-Robots-Tag:noindex
X-PUBLISHED-TTL:PT1H
BEGIN:VTIMEZONE
TZID:Europe/Madrid
BEGIN:DAYLIGHT
TZOFFSETFROM:+0100
TZOFFSETTO:+0200
TZNAME:CEST
DTSTART:20240331T010000
END:DAYLIGHT
BEGIN:STANDARD
TZOFFSETFROM:+0200
TZOFFSETTO:+0100
TZNAME:CET
DTSTART:20241027T010000
END:STANDARD
BEGIN:DAYLIGHT
TZOFFSETFROM:+0100
TZOFFSETTO:+0200
TZNAME:CEST
DTSTART:20250330T010000
END:DAYLIGHT
BEGIN:STANDARD
TZOFFSETFROM:+0200
TZOFFSETTO:+0100
TZNAME:CET
DTSTART:20251026T010000
END:STANDARD
BEGIN:DAYLIGHT
TZOFFSETFROM:+0100
TZOFFSETTO:+0200
TZNAME:CEST
DTSTART:20260329T010000
END:DAYLIGHT
BEGIN:STANDARD
TZOFFSETFROM:+0200
TZOFFSETTO:+0100
TZNAME:CET
DTSTART:20261025T010000
END:STANDARD
BEGIN:DAYLIGHT
TZOFFSETFROM:+0100
TZOFFSETTO:+0200
TZNAME:CEST
DTSTART:20270328T010000
END:DAYLIGHT
BEGIN:STANDARD
TZOFFSETFROM:+0200
TZOFFSETTO:+0100
TZNAME:CET
DTSTART:20271031T010000
END:STANDARD
END:VTIMEZONE
BEGIN:VEVENT
DTSTART;TZID=Europe/Madrid:20251220T000000
DTEND;TZID=Europe/Madrid:20260107T235959
DTSTAMP:20260424T233912
CREATED:20251125T151346Z
LAST-MODIFIED:20260108T100910Z
UID:2743-1766188800-1767830399@santamariadelmar.es
SUMMARY:Vacaciones Navidad
DESCRIPTION:
URL:https://santamariadelmar.es/evento/vacaciones-navidad/
CATEGORIES:Calendario Escolar
END:VEVENT
BEGIN:VEVENT
DTSTART;TZID=Europe/Madrid:20260101T000000
DTEND;TZID=Europe/Madrid:20260101T235959
DTSTAMP:20260424T233912
CREATED:20251125T151554Z
LAST-MODIFIED:20251125T151554Z
UID:2753-1767225600-1767311999@santamariadelmar.es
SUMMARY:¡Año nuevo!
DESCRIPTION:
URL:https://santamariadelmar.es/evento/ano-nuevo/
CATEGORIES:Calendario Escolar
END:VEVENT
BEGIN:VEVENT
DTSTART;TZID=Europe/Madrid:20260106T000000
DTEND;TZID=Europe/Madrid:20260106T235959
DTSTAMP:20260424T233912
CREATED:20251125T151629Z
LAST-MODIFIED:20251125T151629Z
UID:2755-1767657600-1767743999@santamariadelmar.es
SUMMARY:¡Reyes Magos!
DESCRIPTION:
URL:https://santamariadelmar.es/evento/reyes-magos/
CATEGORIES:Calendario Escolar
END:VEVENT
BEGIN:VEVENT
DTSTART;TZID=Europe/Madrid:20260124T000000
DTEND;TZID=Europe/Madrid:20260124T235959
DTSTAMP:20260424T233912
CREATED:20251125T151659Z
LAST-MODIFIED:20251125T151659Z
UID:2757-1769212800-1769299199@santamariadelmar.es
SUMMARY:Día Internacional de la Educación
DESCRIPTION:
URL:https://santamariadelmar.es/evento/dia-internacional-de-la-educacion/
CATEGORIES:Calendario Escolar
END:VEVENT
BEGIN:VEVENT
DTSTART;TZID=Europe/Madrid:20260130T000000
DTEND;TZID=Europe/Madrid:20260130T235959
DTSTAMP:20260424T233912
CREATED:20251125T151748Z
LAST-MODIFIED:20251125T151748Z
UID:2759-1769731200-1769817599@santamariadelmar.es
SUMMARY:Día Escolar de la No Violencia y de la Paz
DESCRIPTION:
URL:https://santamariadelmar.es/evento/dia-escolar-de-la-no-violencia-y-de-la-paz/
CATEGORIES:Calendario Escolar
END:VEVENT
BEGIN:VEVENT
DTSTART;TZID=Europe/Madrid:20260202T201500
DTEND;TZID=Europe/Madrid:20260202T220000
DTSTAMP:20260424T233912
CREATED:20260129T144616Z
LAST-MODIFIED:20260129T145007Z
UID:7628-1770063300-1770069600@santamariadelmar.es
SUMMARY:Conferencia «La sinodalidad de Francisco»
DESCRIPTION:Ponente: Diego Molina SJ
URL:https://santamariadelmar.es/evento/charla-la-sinodalidad-de-francisco/
CATEGORIES:Centro Fonseca
END:VEVENT
BEGIN:VEVENT
DTSTART;TZID=Europe/Madrid:20260203T201500
DTEND;TZID=Europe/Madrid:20260203T220000
DTSTAMP:20260424T233912
CREATED:20260129T144935Z
LAST-MODIFIED:20260129T144935Z
UID:7632-1770149700-1770156000@santamariadelmar.es
SUMMARY:Conferencia «A 1700 años del Credo de Nicea: la Fe que nos une»
DESCRIPTION:Ponente: Diego Molina SJ
URL:https://santamariadelmar.es/evento/conferencia-a-1700-anos-del-credo-de-nicea-la-fe-que-nos-une/
CATEGORIES:Centro Fonseca
END:VEVENT
BEGIN:VEVENT
DTSTART;TZID=Europe/Madrid:20260213T140000
DTEND;TZID=Europe/Madrid:20260213T150000
DTSTAMP:20260424T233912
CREATED:20260213T113629Z
LAST-MODIFIED:20260213T113629Z
UID:9024-1770991200-1770994800@santamariadelmar.es
SUMMARY:Festival Entroido
DESCRIPTION:
URL:https://santamariadelmar.es/evento/festival-entroido/
CATEGORIES:Infantil,Primaria
END:VEVENT
BEGIN:VEVENT
DTSTART;TZID=Europe/Madrid:20260214T000000
DTEND;TZID=Europe/Madrid:20260214T235959
DTSTAMP:20260424T233912
CREATED:20251125T152248Z
LAST-MODIFIED:20251125T152248Z
UID:2761-1771027200-1771113599@santamariadelmar.es
SUMMARY:San Valentín
DESCRIPTION:
URL:https://santamariadelmar.es/evento/san-valentin/
CATEGORIES:Santoral
END:VEVENT
BEGIN:VEVENT
DTSTART;TZID=Europe/Madrid:20260216T000000
DTEND;TZID=Europe/Madrid:20260218T235959
DTSTAMP:20260424T233912
CREATED:20251125T152349Z
LAST-MODIFIED:20251125T152349Z
UID:2763-1771200000-1771459199@santamariadelmar.es
SUMMARY:Entroido
DESCRIPTION:
URL:https://santamariadelmar.es/evento/entroido/
END:VEVENT
BEGIN:VEVENT
DTSTART;TZID=Europe/Madrid:20260217T102500
DTEND;TZID=Europe/Madrid:20260217T105500
DTSTAMP:20260424T233912
CREATED:20260213T115634Z
LAST-MODIFIED:20260219T080647Z
UID:9033-1771323900-1771325700@santamariadelmar.es
SUMMARY:Misa voluntaria ESO-Bach
DESCRIPTION:
URL:https://santamariadelmar.es/evento/misa-voluntaria-eso/
CATEGORIES:Pastoral
END:VEVENT
BEGIN:VEVENT
DTSTART;TZID=Europe/Madrid:20260220T000000
DTEND;TZID=Europe/Madrid:20260220T235959
DTSTAMP:20260424T233912
CREATED:20260213T115743Z
LAST-MODIFIED:20260213T115752Z
UID:9036-1771545600-1771631999@santamariadelmar.es
SUMMARY:Baúl Magis Infantil
DESCRIPTION:
URL:https://santamariadelmar.es/evento/baul-magis-infantil/
CATEGORIES:Infantil
END:VEVENT
BEGIN:VEVENT
DTSTART;TZID=Europe/Madrid:20260220T110500
DTEND;TZID=Europe/Madrid:20260220T113500
DTSTAMP:20260424T233912
CREATED:20260213T115907Z
LAST-MODIFIED:20260219T080639Z
UID:9038-1771585500-1771587300@santamariadelmar.es
SUMMARY:Misa voluntaria primaria
DESCRIPTION:
URL:https://santamariadelmar.es/evento/misa-voluntaria-primaria/
CATEGORIES:Pastoral
END:VEVENT
BEGIN:VEVENT
DTSTART;TZID=Europe/Madrid:20260223T000000
DTEND;TZID=Europe/Madrid:20260223T235959
DTSTAMP:20260424T233912
CREATED:20260213T120150Z
LAST-MODIFIED:20260223T120338Z
UID:9045-1771804800-1771891199@santamariadelmar.es
SUMMARY:Día de Rosalía de Castro
DESCRIPTION:
URL:https://santamariadelmar.es/evento/dia-de-rosalia-de-castro/
CATEGORIES:Calendario Escolar
END:VEVENT
BEGIN:VEVENT
DTSTART;TZID=Europe/Madrid:20260223T000000
DTEND;TZID=Europe/Madrid:20260223T235959
DTSTAMP:20260424T233912
CREATED:20260223T081613Z
LAST-MODIFIED:20260223T081613Z
UID:9171-1771804800-1771891199@santamariadelmar.es
SUMMARY:Visita Director ESIL
DESCRIPTION:
URL:https://santamariadelmar.es/evento/visita-director-esil/
CATEGORIES:Colegial
END:VEVENT
BEGIN:VEVENT
DTSTART;TZID=Europe/Madrid:20260223T000000
DTEND;TZID=Europe/Madrid:20260227T235959
DTSTAMP:20260424T233912
CREATED:20260213T120032Z
LAST-MODIFIED:20260219T080626Z
UID:9040-1771804800-1772236799@santamariadelmar.es
SUMMARY:Semana del Buen Trato
DESCRIPTION:
URL:https://santamariadelmar.es/evento/semana-del-buen-trato/
CATEGORIES:Calendario Escolar
END:VEVENT
BEGIN:VEVENT
DTSTART;TZID=Europe/Madrid:20260224T102500
DTEND;TZID=Europe/Madrid:20260224T105500
DTSTAMP:20260424T233912
CREATED:20260213T120230Z
LAST-MODIFIED:20260219T080632Z
UID:9048-1771928700-1771930500@santamariadelmar.es
SUMMARY:Misa voluntaria ESO
DESCRIPTION:
URL:https://santamariadelmar.es/evento/misa-voluntaria-eso-2/
CATEGORIES:Pastoral
END:VEVENT
BEGIN:VEVENT
DTSTART;TZID=Europe/Madrid:20260226T121500
DTEND;TZID=Europe/Madrid:20260226T134000
DTSTAMP:20260424T233912
CREATED:20260219T090139Z
LAST-MODIFIED:20260219T090139Z
UID:9141-1772108100-1772113200@santamariadelmar.es
SUMMARY:Charla Sebas Lorente
DESCRIPTION:
URL:https://santamariadelmar.es/evento/charla-sebas-lorente/
CATEGORIES:Bachillerato
END:VEVENT
BEGIN:VEVENT
DTSTART;TZID=Europe/Madrid:20260227T000000
DTEND;TZID=Europe/Madrid:20260227T235959
DTSTAMP:20260424T233912
CREATED:20260213T120259Z
LAST-MODIFIED:20260213T120259Z
UID:9050-1772150400-1772236799@santamariadelmar.es
SUMMARY:Baúl Magis Infantil
DESCRIPTION:
URL:https://santamariadelmar.es/evento/baul-magis-infantil-2/
CATEGORIES:Infantil,Pastoral
END:VEVENT
BEGIN:VEVENT
DTSTART;TZID=Europe/Madrid:20260302T080000
DTEND;TZID=Europe/Madrid:20260302T170000
DTSTAMP:20260424T233912
CREATED:20260302T113345Z
LAST-MODIFIED:20260302T113345Z
UID:9208-1772438400-1772470800@santamariadelmar.es
SUMMARY:Actividades Deportivas (2º ESO)
DESCRIPTION:
URL:https://santamariadelmar.es/evento/actividades-deportivas-2o-eso/
CATEGORIES:ESO
END:VEVENT
BEGIN:VEVENT
DTSTART;TZID=Europe/Madrid:20260302T101500
DTEND;TZID=Europe/Madrid:20260302T130000
DTSTAMP:20260424T233912
CREATED:20260219T082336Z
LAST-MODIFIED:20260219T082336Z
UID:9077-1772446500-1772456400@santamariadelmar.es
SUMMARY:Visita Punto Limpio Eirís
DESCRIPTION:
URL:https://santamariadelmar.es/evento/visita-punto-limpio-eiris/
CATEGORIES:Infantil
END:VEVENT
BEGIN:VEVENT
DTSTART;TZID=Europe/Madrid:20260303T102500
DTEND;TZID=Europe/Madrid:20260303T105500
DTSTAMP:20260424T233912
CREATED:20260219T082022Z
LAST-MODIFIED:20260219T082059Z
UID:9073-1772533500-1772535300@santamariadelmar.es
SUMMARY:Misa ESO-Bach
DESCRIPTION:
URL:https://santamariadelmar.es/evento/misa-eso-bach/
CATEGORIES:Pastoral
END:VEVENT
BEGIN:VEVENT
DTSTART;TZID=Europe/Madrid:20260305T100000
DTEND;TZID=Europe/Madrid:20260305T130000
DTSTAMP:20260424T233912
CREATED:20260219T082524Z
LAST-MODIFIED:20260219T082524Z
UID:9080-1772704800-1772715600@santamariadelmar.es
SUMMARY:Teatro 3ºEP Fundación Abanca
DESCRIPTION:
URL:https://santamariadelmar.es/evento/teatro-3oep-fundacion-abanca/
CATEGORIES:Primaria
END:VEVENT
BEGIN:VEVENT
DTSTART;TZID=Europe/Madrid:20260306T000000
DTEND;TZID=Europe/Madrid:20260306T235959
DTSTAMP:20260424T233912
CREATED:20260219T082615Z
LAST-MODIFIED:20260219T085236Z
UID:9082-1772755200-1772841599@santamariadelmar.es
SUMMARY:Baúl Magis Infantil
DESCRIPTION:
URL:https://santamariadelmar.es/evento/baul-magis/
CATEGORIES:Pastoral
END:VEVENT
BEGIN:VEVENT
DTSTART;TZID=Europe/Madrid:20260306T000000
DTEND;TZID=Europe/Madrid:20260306T235959
DTSTAMP:20260424T233912
CREATED:20260302T111245Z
LAST-MODIFIED:20260302T111245Z
UID:9187-1772755200-1772841599@santamariadelmar.es
SUMMARY:Charla Cruz Roja (4º ESO)
DESCRIPTION:
URL:https://santamariadelmar.es/evento/charla-cruz-roja-4o-eso/
CATEGORIES:ESO
END:VEVENT
BEGIN:VEVENT
DTSTART;TZID=Europe/Madrid:20260306T000000
DTEND;TZID=Europe/Madrid:20260306T235959
DTSTAMP:20260424T233912
CREATED:20260302T111335Z
LAST-MODIFIED:20260302T111335Z
UID:9189-1772755200-1772841599@santamariadelmar.es
SUMMARY:Jornada de Orientación
DESCRIPTION:
URL:https://santamariadelmar.es/evento/jornada-de-orientacion-2/
CATEGORIES:Bachillerato
END:VEVENT
BEGIN:VEVENT
DTSTART;TZID=Europe/Madrid:20260306T110500
DTEND;TZID=Europe/Madrid:20260306T113500
DTSTAMP:20260424T233912
CREATED:20260219T082919Z
LAST-MODIFIED:20260219T082919Z
UID:9084-1772795100-1772796900@santamariadelmar.es
SUMMARY:Misa Voluntaria Primaria
DESCRIPTION:
URL:https://santamariadelmar.es/evento/misa-voluntaria-primaria-2/
CATEGORIES:Pastoral
END:VEVENT
BEGIN:VEVENT
DTSTART;TZID=Europe/Madrid:20260307T000000
DTEND;TZID=Europe/Madrid:20260314T235959
DTSTAMP:20260424T233912
CREATED:20260302T111939Z
LAST-MODIFIED:20260302T111939Z
UID:9191-1772841600-1773532799@santamariadelmar.es
SUMMARY:Intercambio Turín en Coruña
DESCRIPTION:
URL:https://santamariadelmar.es/evento/intercambio-turin-en-coruna/
CATEGORIES:ESO
END:VEVENT
BEGIN:VEVENT
DTSTART;TZID=Europe/Madrid:20260307T000000
DTEND;TZID=Europe/Madrid:20260314T235959
DTSTAMP:20260424T233912
CREATED:20260302T112740Z
LAST-MODIFIED:20260302T112740Z
UID:9193-1772841600-1773532799@santamariadelmar.es
SUMMARY:Intercambio Marsella (4º ESO\, 1º BACH)
DESCRIPTION:
URL:https://santamariadelmar.es/evento/intercambio-marsella-4o-eso-1o-bach/
CATEGORIES:Bachillerato
END:VEVENT
BEGIN:VEVENT
DTSTART;TZID=Europe/Madrid:20260309T000000
DTEND;TZID=Europe/Madrid:20260309T235959
DTSTAMP:20260424T233912
CREATED:20260219T084218Z
LAST-MODIFIED:20260219T084218Z
UID:9094-1773014400-1773100799@santamariadelmar.es
SUMMARY:Jornada Ignaciana 3er ciclo EP
DESCRIPTION:
URL:https://santamariadelmar.es/evento/jornada-ignaciana-3er-ciclo-ep/
CATEGORIES:Primaria
END:VEVENT
END:VCALENDAR