BEGIN:VCALENDAR
VERSION:2.0
PRODID:-//Santa María del Mar - ECPv6.15.16//NONSGML v1.0//EN
CALSCALE:GREGORIAN
METHOD:PUBLISH
X-ORIGINAL-URL:https://santamariadelmar.es
X-WR-CALDESC:Eventos para Santa María del Mar
REFRESH-INTERVAL;VALUE=DURATION:PT1H
X-Robots-Tag:noindex
X-PUBLISHED-TTL:PT1H
BEGIN:VTIMEZONE
TZID:Europe/Madrid
BEGIN:DAYLIGHT
TZOFFSETFROM:+0100
TZOFFSETTO:+0200
TZNAME:CEST
DTSTART:20250330T010000
END:DAYLIGHT
BEGIN:STANDARD
TZOFFSETFROM:+0200
TZOFFSETTO:+0100
TZNAME:CET
DTSTART:20251026T010000
END:STANDARD
BEGIN:DAYLIGHT
TZOFFSETFROM:+0100
TZOFFSETTO:+0200
TZNAME:CEST
DTSTART:20260329T010000
END:DAYLIGHT
BEGIN:STANDARD
TZOFFSETFROM:+0200
TZOFFSETTO:+0100
TZNAME:CET
DTSTART:20261025T010000
END:STANDARD
BEGIN:DAYLIGHT
TZOFFSETFROM:+0100
TZOFFSETTO:+0200
TZNAME:CEST
DTSTART:20270328T010000
END:DAYLIGHT
BEGIN:STANDARD
TZOFFSETFROM:+0200
TZOFFSETTO:+0100
TZNAME:CET
DTSTART:20271031T010000
END:STANDARD
END:VTIMEZONE
BEGIN:VEVENT
DTSTART;TZID=Europe/Madrid:20260312T000000
DTEND;TZID=Europe/Madrid:20260312T235959
DTSTAMP:20260424T224817
CREATED:20260219T084503Z
LAST-MODIFIED:20260219T084503Z
UID:9102-1773273600-1773359999@santamariadelmar.es
SUMMARY:Acto Colegial Semana Ignaciana
DESCRIPTION:
URL:https://santamariadelmar.es/evento/acto-colegial-semana-ignaciana/
CATEGORIES:Colegial
END:VEVENT
BEGIN:VEVENT
DTSTART;TZID=Europe/Madrid:20260325T000000
DTEND;TZID=Europe/Madrid:20260325T235959
DTSTAMP:20260424T224817
CREATED:20260219T085617Z
LAST-MODIFIED:20260219T085617Z
UID:9133-1774396800-1774483199@santamariadelmar.es
SUMMARY:Día del Árbol
DESCRIPTION:
URL:https://santamariadelmar.es/evento/dia-del-arbol/
CATEGORIES:Colegial
END:VEVENT
END:VCALENDAR